BEGIN:VCALENDAR
VERSION:2.0
PRODID:-//Plone.org//NONSGML plone.app.event//EN
X-WR-TIMEZONE:Europe/Berlin
BEGIN:VEVENT
SUMMARY:"Advances in Research on Ischemic Brain Injury"
DTSTART;TZID=Europe/Berlin:20180317T130000
DTEND;TZID=Europe/Berlin:20180317T193000
DTSTAMP:20260424T142318Z
UID:2c3389ab6d944a739bd9fff7f407a275@www.cmbb-fcmh.de
CREATED:20180228T094218Z
DESCRIPTION:https://www.cmbb-fcmh.de/de/aktuelles/termine/advances-in-rese
 arch-on-ischemic-brain-injury\n"Advances in Research on Ischemic Brain Inj
 ury" -\nSymposium zum 80. Geburtstag von Prof. Dr. Dr. Josef Krieglstein
LAST-MODIFIED:20180312T081627Z
LOCATION:Aula der Alten Universität\, Lahntor 3\, 35037 Marburg
URL:https://www.cmbb-fcmh.de/de/aktuelles/termine/advances-in-research-on-
 ischemic-brain-injury
END:VEVENT
BEGIN:VTIMEZONE
TZID:Europe/Berlin
X-LIC-LOCATION:Europe/Berlin
BEGIN:STANDARD
DTSTART:20171029T020000
TZNAME:CET
TZOFFSETFROM:+0200
TZOFFSETTO:+0100
END:STANDARD
END:VTIMEZONE
END:VCALENDAR
