BEGIN:VCALENDAR
VERSION:2.0
PRODID:-//Plone.org//NONSGML plone.app.event//EN
X-WR-TIMEZONE:Europe/Berlin
BEGIN:VEVENT
SUMMARY:- Current Topics in Perception and Cognition - Vortrag: Saliency p
 rediction in deep neural networks
DTSTART;TZID=Europe/Berlin:20181017T101500
DTEND;TZID=Europe/Berlin:20181017T121500
DTSTAMP:20260422T024719Z
UID:37f7e5568aec44c48575e5ebcc2163b3@www.cmbb-fcmh.de
ATTENDEE;CN="Matthias Kümmerer, Tübingen";ROLE=REQ-PARTICIPANT:Matthias 
 Kümmerer, Tübingen
CREATED:20181015T133922Z
DESCRIPTION:https://www.cmbb-fcmh.de/de/aktuelles/termine/current-topics-i
 n-perception-and-cognition-vortrag-saliency-prediction-in-deep-neural-netw
 orks\n
LAST-MODIFIED:20181015T140614Z
LOCATION:Philosophikum I\, JLU Gießen\, Raum F005
URL:https://www.cmbb-fcmh.de/de/aktuelles/termine/current-topics-in-percep
 tion-and-cognition-vortrag-saliency-prediction-in-deep-neural-networks
END:VEVENT
BEGIN:VTIMEZONE
TZID:Europe/Berlin
X-LIC-LOCATION:Europe/Berlin
BEGIN:DAYLIGHT
DTSTART:20180325T030000
TZNAME:CEST
TZOFFSETFROM:+0100
TZOFFSETTO:+0200
END:DAYLIGHT
END:VTIMEZONE
END:VCALENDAR
