BEGIN:VCALENDAR
VERSION:2.0
PRODID:-//Plone.org//NONSGML plone.app.event//EN
X-WR-TIMEZONE:Europe/Berlin
BEGIN:VEVENT
SUMMARY:Dynamics of the Nervous System
DTSTART;VALUE=DATE:20180920
DTEND;VALUE=DATE:20180923
DTSTAMP:20260422T120040Z
UID:1e540c5dc9514dbabd6cc0736ea8ce0e@www.cmbb-fcmh.de
CREATED:20180605T063623Z
DESCRIPTION:https://www.cmbb-fcmh.de/de/aktuelles/termine/dynamics-of-the-
 nervous-system\n
LAST-MODIFIED:20180807T104920Z
LOCATION:Forschungszentrum Deutscher Sprachatlas\, Pilgrimstein 16
URL:https://www.cmbb-fcmh.de/de/aktuelles/termine/dynamics-of-the-nervous-
 system
END:VEVENT
END:VCALENDAR
