BEGIN:VCALENDAR
VERSION:2.0
PRODID:-//Plone.org//NONSGML plone.app.event//EN
X-WR-TIMEZONE:Europe/Berlin
BEGIN:VEVENT
SUMMARY:“Sinus sagittalis superior thrombosis in rats - does the applica
 tion of a selective VEGF inhibitor (SU5416) have an effect on angiogenesis
 ?”
DTSTART;TZID=Europe/Berlin:20181204T121500
DTEND;TZID=Europe/Berlin:20181204T132500
DTSTAMP:20260422T121633Z
UID:77ad13c9d26c43a5b7cf92b9bb4f69b7@www.cmbb-fcmh.de
ATTENDEE;CN="Doctoral student Maaike Terhaar (PI Prof. Dr. med. Tibo Gerri
 ets, Department of Neurology, JLU Gießen)";ROLE=REQ-PARTICIPANT:Doctoral 
 student Maaike Terhaar (PI Prof. Dr. med. Tibo Gerriets, Department of Neu
 rology, JLU Gießen)
CREATED:20181029T070238Z
DESCRIPTION:https://www.cmbb-fcmh.de/de/aktuelles/termine/joint-seminar-on
 -topics-in-neuroscience-for-doctoral-students-and-other-members-of-the-jus
 tus-liebig-university-giessen-and-philipps-university-marburg-in-particula
 r-members-of-the-faculty-of-veterinary-medicine-held-within-the-internatio
 nal-giessen\nJoint seminar on topics in neuroscience for doctoral students
  and other members of the Justus-Liebig-University Gießen and Philipps-Un
 iversität Marburg\, in particular members of the Faculty of Veterinary Me
 dicine held within the International Giessen Graduate Centre for the Life 
 Sciences (GGL) section “Neuroscience”
LAST-MODIFIED:20181029T071423Z
LOCATION:Institute of Veterinary Physiology and Biochemistry  (Seminar roo
 m\, 1st floor\, Frankfurter Str. 100\, Giessen)
URL:https://www.cmbb-fcmh.de/de/aktuelles/termine/joint-seminar-on-topics-
 in-neuroscience-for-doctoral-students-and-other-members-of-the-justus-lieb
 ig-university-giessen-and-philipps-university-marburg-in-particular-member
 s-of-the-faculty-of-veterinary-medicine-held-within-the-international-gies
 sen
END:VEVENT
BEGIN:VTIMEZONE
TZID:Europe/Berlin
X-LIC-LOCATION:Europe/Berlin
BEGIN:STANDARD
DTSTART:20181028T020000
TZNAME:CET
TZOFFSETFROM:+0200
TZOFFSETTO:+0100
END:STANDARD
END:VTIMEZONE
END:VCALENDAR
