BEGIN:VCALENDAR
VERSION:2.0
PRODID:-//Plone.org//NONSGML plone.app.event//EN
X-WR-TIMEZONE:Europe/Berlin
BEGIN:VEVENT
SUMMARY:Neuronale Netzwerkdynamik im EEG von Parkinson-Patienten
DTSTART;TZID=Europe/Berlin:20190502T190000
DTEND;TZID=Europe/Berlin:20190502T200000
DTSTAMP:20260422T122106Z
UID:24d975f08edf4e73954b953ffc93502e@www.cmbb-fcmh.de
ATTENDEE;CN="Immo Weber, Klinik für Neurologie";ROLE=REQ-PARTICIPANT:Immo
  Weber, Klinik für Neurologie
CREATED:20180126T105503Z
DESCRIPTION:https://www.cmbb-fcmh.de/de/aktuelles/termine/phonetics-and-ne
 uroscience-how-the-brain-deals-with-speech-sounds-and-why-predictions-are-
 important\n
LAST-MODIFIED:20190318T103026Z
LOCATION:Lahnberge\, 3. BA\, +2/00083\, Baldingerstraße
URL:https://www.cmbb-fcmh.de/de/aktuelles/termine/phonetics-and-neuroscien
 ce-how-the-brain-deals-with-speech-sounds-and-why-predictions-are-importan
 t
END:VEVENT
BEGIN:VTIMEZONE
TZID:Europe/Berlin
X-LIC-LOCATION:Europe/Berlin
BEGIN:DAYLIGHT
DTSTART:20190331T030000
TZNAME:CEST
TZOFFSETFROM:+0100
TZOFFSETTO:+0200
END:DAYLIGHT
END:VTIMEZONE
END:VCALENDAR
