BEGIN:VCALENDAR
VERSION:2.0
PRODID:-//Plone.org//NONSGML plone.app.event//EN
X-WR-TIMEZONE:Europe/Berlin
BEGIN:VEVENT
SUMMARY:"Redistributing energy between the brain and the immune system: th
 e contribution of IL-1"
DTSTART;TZID=Europe/Berlin:20190122T121500
DTEND;TZID=Europe/Berlin:20190122T132500
DTSTAMP:20260422T103557Z
UID:b9b3b20f9fc74abfb2311c8c62829924@www.cmbb-fcmh.de
ATTENDEE;CN="Prof. Dr. Adriana del Rey, Immunphysiology, Philips-Universit
 ät Marburg";ROLE=REQ-PARTICIPANT:Prof. Dr. Adriana del Rey, Immunphysiolo
 gy, Philips-Universität Marburg
CREATED:20181029T071010Z
DESCRIPTION:https://www.cmbb-fcmh.de/de/aktuelles/termine/redistributing-e
 nergy-between-the-brain-and-the-immune-system-the-contribution-of-il-1\nJo
 int seminar on topics in neuroscience for doctoral students and other memb
 ers of the Justus-Liebig-University Gießen and Philipps-Universität Marb
 urg\, in particular members of the Faculty of Veterinary Medicine held wit
 hin the International Giessen Graduate Centre for the Life Sciences (GGL) 
 section “Neuroscience”
LAST-MODIFIED:20181029T071124Z
LOCATION:Institute of Veterinary Physiology and Biochemistry  (Seminar roo
 m\, 1st floor\, Frankfurter Str. 100\, Giessen)
URL:https://www.cmbb-fcmh.de/de/aktuelles/termine/redistributing-energy-be
 tween-the-brain-and-the-immune-system-the-contribution-of-il-1
END:VEVENT
BEGIN:VTIMEZONE
TZID:Europe/Berlin
X-LIC-LOCATION:Europe/Berlin
BEGIN:STANDARD
DTSTART:20181028T020000
TZNAME:CET
TZOFFSETFROM:+0200
TZOFFSETTO:+0100
END:STANDARD
END:VTIMEZONE
END:VCALENDAR
