BEGIN:VCALENDAR
VERSION:2.0
PRODID:-//Plone.org//NONSGML plone.app.event//EN
X-WR-TIMEZONE:Europe/Berlin
BEGIN:VEVENT
SUMMARY:"The blood brain barrier - new aspects of tight junction research"
DTSTART;TZID=Europe/Berlin:20181106T121500
DTEND;TZID=Europe/Berlin:20181106T132500
DTSTAMP:20260421T223732Z
UID:50bc7c37e25245e79db8d5966c171fe8@www.cmbb-fcmh.de
ATTENDEE;CN="Prof. Dr. Salah Amasheh (Institute of Veterinary Physiology, 
 Freie Universität Berlin)";ROLE=REQ-PARTICIPANT:Prof. Dr. Salah Amasheh (
 Institute of Veterinary Physiology, Freie Universität Berlin)
CREATED:20181029T065023Z
DESCRIPTION:https://www.cmbb-fcmh.de/de/aktuelles/termine/the-blood-brain-
 barrier-new-aspects-of-tight-junction-research\nJoint seminar on topics in
  neuroscience for doctoral students and other members of the Justus-Liebig
 -University Giessen and Philipps-Universität Marburg\, in particular memb
 ers of the Faculty of Veterinary Medicine held within the International Gi
 essen Graduate Centre for the Life Sciences (GGL) section “Neuroscience
 ”.
LAST-MODIFIED:20181029T070516Z
LOCATION:Institute of Veterinary Physiology and Biochemistry  (Seminar roo
 m\, 1st floor\, Frankfurter Str. 100\, Giessen)
URL:https://www.cmbb-fcmh.de/de/aktuelles/termine/the-blood-brain-barrier-
 new-aspects-of-tight-junction-research
END:VEVENT
BEGIN:VTIMEZONE
TZID:Europe/Berlin
X-LIC-LOCATION:Europe/Berlin
BEGIN:STANDARD
DTSTART:20181028T020000
TZNAME:CET
TZOFFSETFROM:+0200
TZOFFSETTO:+0100
END:STANDARD
END:VTIMEZONE
END:VCALENDAR
