BEGIN:VCALENDAR
VERSION:2.0
PRODID:-//Plone.org//NONSGML plone.app.event//EN
X-WR-TIMEZONE:Europe/Berlin
BEGIN:VEVENT
SUMMARY:Visual processing for context dependent perceptual decisions
DTSTART;TZID=Europe/Berlin:20180704T101500
DTEND;TZID=Europe/Berlin:20180704T121500
DTSTAMP:20260422T120748Z
UID:fe431b310f1a4bd1a5f40acb0b1d7626@www.cmbb-fcmh.de
ATTENDEE;CN="Hendrikje Nienborg, Tübingen";ROLE=REQ-PARTICIPANT:Hendrikje
  Nienborg, Tübingen
CREATED:20180614T051753Z
DESCRIPTION:https://www.cmbb-fcmh.de/de/aktuelles/termine/visual-processin
 g-for-context-dependent-perceptual-decisions\n
LAST-MODIFIED:20180614T052017Z
LOCATION:Otto-Behagel-Straße 10F\, JLU Gießen\, Raum F5
URL:https://www.cmbb-fcmh.de/de/aktuelles/termine/visual-processing-for-co
 ntext-dependent-perceptual-decisions
END:VEVENT
BEGIN:VTIMEZONE
TZID:Europe/Berlin
X-LIC-LOCATION:Europe/Berlin
BEGIN:DAYLIGHT
DTSTART:20180325T030000
TZNAME:CEST
TZOFFSETFROM:+0100
TZOFFSETTO:+0200
END:DAYLIGHT
END:VTIMEZONE
END:VCALENDAR
